BEGIN:VCALENDAR
VERSION:2.0
PRODID:-//eventon.com NONSGML v1.0//EN
BEGIN:VEVENT
UID:69e88a1189e02
DTSTAMP:20260422T014257
DTSTART:20210806T180000Z
DTEND:20210806T190000Z
LOCATION:
SUMMARY:Webinar: 3 Simple Secrets Happy People Know That Help Them Avoid Stress and Overwhelm 8/6
DESCRIPTION: When asked\,  “What do you want out of life?” you simply answer\,  “To be happy.” Yet when it comes to creating that happiness\,  the stress and overwhelm you experience at work and at home become major roadblocks. During this 50-minute webinar\,  Jen Butler will show you how happy people avoid[..]
END:VEVENT
END:VCALENDAR